BEGIN:VCALENDAR
VERSION:2.0
PRODID:-//Evilyn13 - ECPv6.15.17.1//NONSGML v1.0//EN
CALSCALE:GREGORIAN
METHOD:PUBLISH
X-WR-CALNAME:Evilyn13
X-ORIGINAL-URL:https://evilyn13.com/home
X-WR-CALDESC:Events for Evilyn13
REFRESH-INTERVAL;VALUE=DURATION:PT1H
X-Robots-Tag:noindex
X-PUBLISHED-TTL:PT1H
BEGIN:VTIMEZONE
TZID:America/Vancouver
BEGIN:DAYLIGHT
TZOFFSETFROM:-0800
TZOFFSETTO:-0700
TZNAME:PDT
DTSTART:20140309T100000
END:DAYLIGHT
BEGIN:STANDARD
TZOFFSETFROM:-0700
TZOFFSETTO:-0800
TZNAME:PST
DTSTART:20141102T090000
END:STANDARD
BEGIN:DAYLIGHT
TZOFFSETFROM:-0800
TZOFFSETTO:-0700
TZNAME:PDT
DTSTART:20150308T100000
END:DAYLIGHT
BEGIN:STANDARD
TZOFFSETFROM:-0700
TZOFFSETTO:-0800
TZNAME:PST
DTSTART:20151101T090000
END:STANDARD
BEGIN:DAYLIGHT
TZOFFSETFROM:-0800
TZOFFSETTO:-0700
TZNAME:PDT
DTSTART:20160313T100000
END:DAYLIGHT
BEGIN:STANDARD
TZOFFSETFROM:-0700
TZOFFSETTO:-0800
TZNAME:PST
DTSTART:20161106T090000
END:STANDARD
END:VTIMEZONE
BEGIN:VEVENT
DTSTART;TZID=America/Vancouver:20151213T200000
DTEND;TZID=America/Vancouver:20151213T230000
DTSTAMP:20260422T092257
CREATED:20151124T063309Z
LAST-MODIFIED:20151124T063309Z
UID:451-1450036800-1450047600@evilyn13.com
SUMMARY:Nerdlesque at Kitty Nights
DESCRIPTION:Featuring DJ Evilyn13 – Award-winnning Burlesque Fun every Sunday since 2008! Doors at 8\, show at 9\, and then a dance party with DJ Evilyn13 ’til close!
URL:https://evilyn13.com/home/event/nerdlesque-at-kitty-nights/
LOCATION:Biltmore Cabaret\, 2755 Prince Edward St\, Vancouver\, BC\, V5T 0B5\, Canada
CATEGORIES:Burlesque Events,DJ Gigs,Vancouver Events
ATTACH;FMTTYPE=image/jpeg:https://evilyn13.com/home/wp-content/uploads/2015/11/kitty_nights_holiday-poster.jpg
END:VEVENT
BEGIN:VEVENT
DTSTART;TZID=America/Vancouver:20151212T210000
DTEND;TZID=America/Vancouver:20151213T030000
DTSTAMP:20260422T092257
CREATED:20151117T053442Z
LAST-MODIFIED:20151124T064135Z
UID:310-1449954000-1449975600@evilyn13.com
SUMMARY:Sin City Fetish Night XXX-Mas Fetish Ball
DESCRIPTION:Featuring DJ Evilyn13 – EVERYBODY knows it’s WAY more fun to be naughty than nice on X-mas\, and there’s nowhere more fun to get your naughty on that at Sin City Fetish Night! Three levels of partying\, two rooms of DJs & dancing\, fetish dress code to keep it sexy\, and a wonderfully high-spirited and fun crowd … not to be missed!
URL:https://evilyn13.com/home/event/sin-city-fetish-night-xxx-mas-fetish-ball/
LOCATION:The Hindenburg\, 23 West Cordova St\, Vancouver\, BC\, V6B 1C8\, Canada
CATEGORIES:DJ Gigs,Fetish Events,Vancouver Events
ATTACH;FMTTYPE=image/jpeg:https://evilyn13.com/home/wp-content/uploads/2015/11/11942312_10156030358370174_4636872633910323613_o.jpg
END:VEVENT
BEGIN:VEVENT
DTSTART;TZID=America/Vancouver:20151206T200000
DTEND;TZID=America/Vancouver:20151206T230000
DTSTAMP:20260422T092257
CREATED:20151124T063152Z
LAST-MODIFIED:20151124T063152Z
UID:449-1449432000-1449442800@evilyn13.com
SUMMARY:Candyland at Kitty Nights
DESCRIPTION:Featuring DJ Evilyn13 – Award-winnning Burlesque Fun every Sunday since 2008! Doors at 8\, show at 9\, and then a dance party with DJ Evilyn13 ’til close!
URL:https://evilyn13.com/home/event/candyland-at-kitty-nights/
LOCATION:Biltmore Cabaret\, 2755 Prince Edward St\, Vancouver\, BC\, V5T 0B5\, Canada
CATEGORIES:Burlesque Events,DJ Gigs,Vancouver Events
ATTACH;FMTTYPE=image/jpeg:https://evilyn13.com/home/wp-content/uploads/2015/11/kitty_nights_holiday-poster.jpg
END:VEVENT
BEGIN:VEVENT
DTSTART;TZID=America/Vancouver:20151121T210000
DTEND;TZID=America/Vancouver:20151122T030000
DTSTAMP:20260422T092257
CREATED:20151118T093700Z
LAST-MODIFIED:20151118T093700Z
UID:413-1448139600-1448161200@evilyn13.com
SUMMARY:MadHaus
DESCRIPTION:Featuring DJ Evilyn13 – MadHaus is held once a month at the newly renovated Hindenburg\, previously known as Club 23 West. A three level\, 2 room alternative club night with 7 DJs! Spinning electro\, 80s\, synthpop\, goth\, industrial\, psytrance\, GOA and more.
URL:https://evilyn13.com/home/event/madhaus/
LOCATION:The Hindenburg\, 23 West Cordova St\, Vancouver\, BC\, V6B 1C8\, Canada
CATEGORIES:DJ Gigs,Vancouver Events
ATTACH;FMTTYPE=image/jpeg:https://evilyn13.com/home/wp-content/uploads/2015/11/12191255_10156222156035174_6322022072793399956_o.jpg
END:VEVENT
BEGIN:VEVENT
DTSTART;TZID=America/Vancouver:20151031T210000
DTEND;TZID=America/Vancouver:20151031T210000
DTSTAMP:20260422T092257
CREATED:20151022T042229Z
LAST-MODIFIED:20151022T042411Z
UID:60-1446325200-1446325200@evilyn13.com
SUMMARY:Sin City Fetish Halloween
DESCRIPTION:Featuring DJ Evilyn13\nSin City is the ONLY Halloween event with a strict fetish dress code and is always ground ZERO for fetish partying on what is possibly the absolute top don’t-miss marquee weekend out of the entire year. \nFor more information\, check out the event website.
URL:https://evilyn13.com/home/event/sin-city-fetish-halloween/
LOCATION:The Imperial\, 319 Main St\, Vancouver\, BC\, V6A 2S9\, Canada
CATEGORIES:DJ Gigs,Fetish Events,Vancouver Events
ATTACH;FMTTYPE=image/jpeg:https://evilyn13.com/home/wp-content/uploads/2015/10/12096271_10156139160160174_2928130435957334610_n.jpg
END:VEVENT
BEGIN:VEVENT
DTSTART;TZID=America/Vancouver:20151018T120000
DTEND;TZID=America/Vancouver:20151018T200000
DTSTAMP:20260422T092257
CREATED:20151022T044104Z
LAST-MODIFIED:20151022T044104Z
UID:67-1445169600-1445198400@evilyn13.com
SUMMARY:Vancouver Halloween Expo
DESCRIPTION:
URL:https://evilyn13.com/home/event/vancouver-halloween-expo-2/
LOCATION:PNE Forum\, 2901 E Hastings St\, Vancouver\, BC\, V5K 5J1\, Canada
CATEGORIES:Cosplay Events
ATTACH;FMTTYPE=image/jpeg:https://evilyn13.com/home/wp-content/uploads/2015/10/12118759_508237516016057_796239349257495053_n.jpg
END:VEVENT
BEGIN:VEVENT
DTSTART;TZID=America/Vancouver:20151017T120000
DTEND;TZID=America/Vancouver:20151017T210000
DTSTAMP:20260422T092257
CREATED:20151022T043330Z
LAST-MODIFIED:20151022T043914Z
UID:63-1445083200-1445115600@evilyn13.com
SUMMARY:Vancouver Halloween Expo
DESCRIPTION:
URL:https://evilyn13.com/home/event/vancouver-halloween-expo/
LOCATION:PNE Forum\, 2901 E Hastings St\, Vancouver\, BC\, V5K 5J1\, Canada
CATEGORIES:Cosplay Events
ATTACH;FMTTYPE=image/jpeg:https://evilyn13.com/home/wp-content/uploads/2015/10/12118759_508237516016057_796239349257495053_n.jpg
END:VEVENT
BEGIN:VEVENT
DTSTART;TZID=America/Vancouver:20151010T210000
DTEND;TZID=America/Vancouver:20151011T030000
DTSTAMP:20260422T092257
CREATED:20151022T034740Z
LAST-MODIFIED:20151022T041641Z
UID:54-1444510800-1444532400@evilyn13.com
SUMMARY:Sin City Scarlot Harlots Fetish Ball
DESCRIPTION:Featuring DJ Evilyn13\nRED IS THE COLOUR OF SIN! And it is also a SUPER easy theme! You can do anything from as simple as taking any fetish outfit you like or already own and tying a red ribbon into your hair or on your wrist\, or incorporating a red flower into your outfit\, all the way through to putting together a full on head to toe red theme outfit! \nFor more information check out the event website.
URL:https://evilyn13.com/home/event/sin-city-scarlot-harlots-fetish-ball/
LOCATION:The Hindenburg\, 23 West Cordova St\, Vancouver\, BC\, V6B 1C8\, Canada
CATEGORIES:DJ Gigs,Fetish Events,Vancouver Events
END:VEVENT
END:VCALENDAR