BEGIN:VCALENDAR
VERSION:2.0
PRODID:-//Evilyn13 - ECPv6.15.17.1//NONSGML v1.0//EN
CALSCALE:GREGORIAN
METHOD:PUBLISH
X-WR-CALNAME:Evilyn13
X-ORIGINAL-URL:https://evilyn13.com/home
X-WR-CALDESC:Events for Evilyn13
REFRESH-INTERVAL;VALUE=DURATION:PT1H
X-Robots-Tag:noindex
X-PUBLISHED-TTL:PT1H
BEGIN:VTIMEZONE
TZID:Europe/Berlin
BEGIN:DAYLIGHT
TZOFFSETFROM:+0100
TZOFFSETTO:+0200
TZNAME:CEST
DTSTART:20150329T010000
END:DAYLIGHT
BEGIN:STANDARD
TZOFFSETFROM:+0200
TZOFFSETTO:+0100
TZNAME:CET
DTSTART:20151025T010000
END:STANDARD
BEGIN:DAYLIGHT
TZOFFSETFROM:+0100
TZOFFSETTO:+0200
TZNAME:CEST
DTSTART:20160327T010000
END:DAYLIGHT
BEGIN:STANDARD
TZOFFSETFROM:+0200
TZOFFSETTO:+0100
TZNAME:CET
DTSTART:20161030T010000
END:STANDARD
BEGIN:DAYLIGHT
TZOFFSETFROM:+0100
TZOFFSETTO:+0200
TZNAME:CEST
DTSTART:20170326T010000
END:DAYLIGHT
BEGIN:STANDARD
TZOFFSETFROM:+0200
TZOFFSETTO:+0100
TZNAME:CET
DTSTART:20171029T010000
END:STANDARD
END:VTIMEZONE
BEGIN:VTIMEZONE
TZID:America/Vancouver
BEGIN:DAYLIGHT
TZOFFSETFROM:-0800
TZOFFSETTO:-0700
TZNAME:PDT
DTSTART:20150308T100000
END:DAYLIGHT
BEGIN:STANDARD
TZOFFSETFROM:-0700
TZOFFSETTO:-0800
TZNAME:PST
DTSTART:20151101T090000
END:STANDARD
BEGIN:DAYLIGHT
TZOFFSETFROM:-0800
TZOFFSETTO:-0700
TZNAME:PDT
DTSTART:20160313T100000
END:DAYLIGHT
BEGIN:STANDARD
TZOFFSETFROM:-0700
TZOFFSETTO:-0800
TZNAME:PST
DTSTART:20161106T090000
END:STANDARD
BEGIN:DAYLIGHT
TZOFFSETFROM:-0800
TZOFFSETTO:-0700
TZNAME:PDT
DTSTART:20170312T100000
END:DAYLIGHT
BEGIN:STANDARD
TZOFFSETFROM:-0700
TZOFFSETTO:-0800
TZNAME:PST
DTSTART:20171105T090000
END:STANDARD
END:VTIMEZONE
BEGIN:VEVENT
DTSTART;VALUE=DATE:20160504
DTEND;VALUE=DATE:20160510
DTSTAMP:20260421T071247
CREATED:20151119T000227Z
LAST-MODIFIED:20160305T184820Z
UID:417-1462334400-1462766399@evilyn13.com
SUMMARY:Attending German Fetish Ball XIII
DESCRIPTION:The German Fetish Ball Weekend returns for its 13th time. The international fetish scene will once more take over the German capital Berlin and party a long weekend with over 2000 guests.
URL:https://evilyn13.com/home/event/attending-german-fetish-ball-xiii/
LOCATION:Spindler & Klatt Berlin\, Köpenicker Straße 16-17\, Berlin\, Germany
CATEGORIES:Fetish Events,Modelling Gigs,Travel Dates
ATTACH;FMTTYPE=image/jpeg:https://evilyn13.com/home/wp-content/uploads/2015/11/12510283_918557381573299_2880352967922611792_n.jpg
END:VEVENT
BEGIN:VEVENT
DTSTART;VALUE=DATE:20160413
DTEND;VALUE=DATE:20160420
DTSTAMP:20260421T071247
CREATED:20151118T235820Z
LAST-MODIFIED:20160204T154613Z
UID:415-1460520000-1461038399@evilyn13.com
SUMMARY:Attending Viva Las Vegas
DESCRIPTION:Viva Las Vegas is a 4-day rockabilly festival featuring:\n6 Live music stages\n1 Seated showroom\n2 Vendor rooms\nBowling event\nTattoo lounge\nCar Show\nOver 100 vendors outside\nBurlesque Shows\nand much\, much more
URL:https://evilyn13.com/home/event/attending-viva-las-vegas/
LOCATION:The Orleans Hotel & Casino\, 4500 W. Tropicana Ave\, Las Vegas\, NV\, 89103\, United States
CATEGORIES:Travel Dates
ATTACH;FMTTYPE=image/jpeg:https://evilyn13.com/home/wp-content/uploads/2016/01/vivaPinUp.web_.jpg
END:VEVENT
BEGIN:VEVENT
DTSTART;VALUE=DATE:20160407
DTEND;VALUE=DATE:20160412
DTSTAMP:20260421T071247
CREATED:20151119T002147Z
LAST-MODIFIED:20160113T020251Z
UID:421-1460001600-1460347199@evilyn13.com
SUMMARY:Attending Emerald City Comic Con
DESCRIPTION:Evilyn13 will be attending Emerald City Comic Con in Seattle\, WA. She will be available for cosplay photo shoots\, and will announce which costumes she’ll be bringing closer to the con!
URL:https://evilyn13.com/home/event/attending-emerald-city-comic-con/
LOCATION:Celebrities Nightclub\, Seattle\, WA\, United States
CATEGORIES:Cosplay Events,Travel Dates
ATTACH;FMTTYPE=image/jpeg:https://evilyn13.com/home/wp-content/uploads/2015/11/993625_10153023273125597_1843646148_n.jpg
END:VEVENT
END:VCALENDAR