BEGIN:VCALENDAR
VERSION:2.0
PRODID:-//Evilyn13 - ECPv6.15.17.1//NONSGML v1.0//EN
CALSCALE:GREGORIAN
METHOD:PUBLISH
X-WR-CALNAME:Evilyn13
X-ORIGINAL-URL:https://evilyn13.com/home
X-WR-CALDESC:Events for Evilyn13
REFRESH-INTERVAL;VALUE=DURATION:PT1H
X-Robots-Tag:noindex
X-PUBLISHED-TTL:PT1H
BEGIN:VTIMEZONE
TZID:America/Vancouver
BEGIN:DAYLIGHT
TZOFFSETFROM:-0800
TZOFFSETTO:-0700
TZNAME:PDT
DTSTART:20140309T100000
END:DAYLIGHT
BEGIN:STANDARD
TZOFFSETFROM:-0700
TZOFFSETTO:-0800
TZNAME:PST
DTSTART:20141102T090000
END:STANDARD
BEGIN:DAYLIGHT
TZOFFSETFROM:-0800
TZOFFSETTO:-0700
TZNAME:PDT
DTSTART:20150308T100000
END:DAYLIGHT
BEGIN:STANDARD
TZOFFSETFROM:-0700
TZOFFSETTO:-0800
TZNAME:PST
DTSTART:20151101T090000
END:STANDARD
BEGIN:DAYLIGHT
TZOFFSETFROM:-0800
TZOFFSETTO:-0700
TZNAME:PDT
DTSTART:20160313T100000
END:DAYLIGHT
BEGIN:STANDARD
TZOFFSETFROM:-0700
TZOFFSETTO:-0800
TZNAME:PST
DTSTART:20161106T090000
END:STANDARD
BEGIN:DAYLIGHT
TZOFFSETFROM:-0800
TZOFFSETTO:-0700
TZNAME:PDT
DTSTART:20170312T100000
END:DAYLIGHT
BEGIN:STANDARD
TZOFFSETFROM:-0700
TZOFFSETTO:-0800
TZNAME:PST
DTSTART:20171105T090000
END:STANDARD
END:VTIMEZONE
BEGIN:VEVENT
DTSTART;TZID=America/Vancouver:20160326T220000
DTEND;TZID=America/Vancouver:20160327T030000
DTSTAMP:20260421T054858
CREATED:20160325T223303Z
LAST-MODIFIED:20160325T223303Z
UID:759-1459029600-1459047600@evilyn13.com
SUMMARY:Spank!
DESCRIPTION:20 Advance\, 25 regular\n10pm!\n1965 Main St\, Back entrance \n▄▄▄▄▄▄▄▄▄▄▄▄▄▄▄▄▄▄▄▄▄▄▄▄▄▄▄▄▄▄ \n★ Vancouver Art and Leisure & Sin City Fetish Night PRESENT –> the closest thing to partying in Berlin that you will find in Vancouver! ★ \n2+ ROOMS OF DJs & DANCING / 2 VIBES\n15+ DJs / DANCERS / HOSTS\nMASSIVE KINK PLAY ROOM\nOODLES OF SEXY SYNTH & NAUGHTY NOOKS TO EXPLORE\nALL ELECTRONICA\, ALL NIGHT\nNO DRESS CODE IN MAIN AREAS\nFETISH DRESS CODE IN KINK PLAY ROOM\nCOME DRESSED HOWEVER YOU LIKE TO PARTY HARD\nKINKY OUTFITS HIGHLY ENCOURAGED BUT NOT MANDATORY\nGLBTQ / STRAIGHT / DRAG / CROSS-DRESS FRIENDLY\nNO PHOTOS PERMITTED INSIDE THE VENUE\nSO YOU CAN GET WILD OFF THE GRID …… \nTickets $20 advance / more at the door (IF available) \n▄▄▄▄▄▄▄▄▄▄▄▄▄▄▄▄▄▄▄▄▄▄▄▄▄▄▄▄▄▄ \n★ ABOUT SPANK ★ \nSPANK is an underground pan-sexual multi-room party loaded with all the music\, bass\, art & magic you can handle! All electronic lose-your-mind-to-the-beat music\, all night. A massive coalition of music\, art & kink afficianados\, attendees & DJs from all corners of the underground scenes of the city\, united for one night of sweat\, fun\, pleasure & pain. GLBTQ\, straight\, and everything in between welcome\, if you want to play\, we welcome you to drop your inhibitions and come get freaky with us in the giant SPANK playground! \nSpread the word\, invite friends\, share this event\, and BRACE YOURSELVES SISTERS & BROTHERS\, because this party is set to destroy your inhibitions\, feet\, hearts and minds\, all in the best way possible! \n▄▄▄▄▄▄▄▄▄▄▄▄▄▄▄▄▄▄▄▄▄▄▄▄▄▄▄▄▄▄ \n>>>>> Room 1 : Dirty House / Techno / Synth / Bass / Wubs <<<<< \n>>>>> Room 2 : Psychedelic Trance <<<<< \n>>>>> Rooms 3\, 4 & 5 : Kink & Social Rooms <<<<< \n★ DJs ★ \n– EVILYN13 \n– SKYLAR LOVE \n– ZARFAN \n– PERFECT LOVERS \n– PANDEMONIUM \n– MUMBLES \n– GOA PETE \n– SYTANTRIS \n– TRYPTID \n– INFINITY CYCLE \n★ HOSTS\, DRAG & BURLESQUE PERFORMERS ★ \n– BERLIN \n– EVITA VERSACE \n– DYNASTY \n– SAMANTHA MACK \n– SLY FOXXX \n▄▄▄▄▄▄▄▄▄▄▄▄▄▄▄▄▄▄▄▄▄▄▄▄▄▄▄▄▄▄ \n★ LOVE DANCING TO ELECTRONIC MUSIC AT UNIQUE UNDERGROUND SPACES? THIS EVENT IS -DEFINITELY- FOR YOU!!! \nEven before getting into all the kinky extras involved in this event\, the main area all by itself is a sweaty all-electronic dance-a-thon featuring a dream lineup of Vancouver’s hottest underground electronic DJs from a huge cross section of Vancouver’s most unique events. \n★ NEVER BEEN TO A FETISH NIGHT BEFORE? \nThis party is PERFECT for first timers or for regulars to being friends who have been interested but haven’t yet made the plunge. \n★ REGULAR AT FETISH EVENTS? \nSPANK brings a whole new vibe and crazy party atmosphere that you will love. The fetishwear-only Play Lounge takes the naughtiness to a whole new level. \n▄▄▄▄▄▄▄▄▄▄▄▄▄▄▄▄▄▄▄▄▄▄▄▄▄▄▄▄▄▄ \n★ ALL ACCESS\, NO DRESS CODE\, CASUAL\, & FETISH ATTIRE ONLY ZONES … ★ \nSPANK is divided into many rooms with a crazy sexy selection of naughty vibes going on. The all access main rooms have no dress code and are a straight up electronic dance party of Dionysian proportion\, complete with lasers\, performers\, killer DJ lineups and much much more. Enter the throng of hundreds of pervy partiers\, dance your pants off (literally\, if you wish) and lose your mind. If you want to come casual\, there is a HUGE party waiting for you! \nThe Play Lounge is FETISH ATTIRE ONLY. It is a playground that is truly off the grid. Wear as crazy (or non-existant) of a fetish outfit as you wish and get set for naughty times beyond belief! \n▄▄▄▄▄▄▄▄▄▄▄▄▄▄▄▄▄▄▄▄▄▄▄▄▄▄▄▄▄▄ \n★ A FEW WORDS ABOUT KINK PLAY … ★ \nThe ENTIRE event is a kink-positive space so feel free to get your kink on with a willing partner wherever the mood takes you. No judgments\, no barriers\, just fun. BUT there are a few guidelines to keep in mind! \n#1 Rule : Absolutely NO UNINVITED INAPPROPRIATE TOUCHING. Look\, but don’t touch! \nDo not invade the space of anyone engaged in kink play. Feel free to ask anyone anything\, but be respectful\, and make sure to give or take NO as an answer gracefully. Kink = consent! If anyone is crossing a line or not being respectful\, please bring it up immediately with staff security\, who will handle it anonymously and quickly. \n▄▄▄▄▄▄▄▄▄▄▄▄▄▄▄▄▄▄▄▄▄▄▄▄▄▄▄▄▄▄ \n★ THIS PARTY IS FOR EVERYONE WHO LIKES IT WILD\, NAUGHTY\, AND A LITTLE BIT CRAZY! \nCOME ON OUT and be part of a crossover mindfuck of a party where we escalate and redefine what is possible at electronic dance parties and kink events alike. This party is PERFECT for first timers or for regulars to bring friends who have been interested but haven’t yet made the plunge. \n▄▄▄▄▄▄▄▄▄▄▄▄▄▄▄▄▄▄▄▄▄▄▄▄▄▄▄▄▄▄ \n★ SUGGESTED & ENCOURAGED PARTY OUTFITS : \n– juicy jocks / glamourous twinks\n– bitchy & beautfiful diva drag queens & kings\n– lipstick lesbians / butch dykes\n– cross dressers of every glorious description\n– new wave / 80’s goth / punk / mod / new romantic\n– 90’s raver / electric circus / MuchMusic wannabes\n– fashion plates / thrift shoppers / couture / DIY fashion\n– burner / steampunk / desert warrior / kaleidoscope kid\n– art freaks & creative minds who just D.G.A.F. and want to partayyyyyy\n– come as dressed down or as dressed up as you want but be prepared to START GLAMOUROUS and END TRASHY \n▄▄▄▄▄▄▄▄▄▄▄▄▄▄▄▄▄▄▄▄▄▄▄▄▄▄▄▄▄▄ \n★ SUGGESTED FETISH ATTIRE : \nHarnesses\, leather\, rubber\, perverted fetish fantasy\, glitterslut\, genderfuck\, drag diva\, ponies\, puppies\, fetish goth\, fetish cyber\, medical fetish\, corsets\, waist cinchers\, chains\, chaps\, fishnets\, body stockings\, fancy lingerie\, sexy jocks … note that jeans & topless will NOT get you entry to the Play Lounge\, but jeans & harness is AWESOME\, PERMITTED & HOT. No effort = no entry! Be sexy and dress yourself up. Make us and everyone want to worship you! If you have any further questions about the dress code\, please visit the VERY full and thorough listing at the Sin City website here : http://sincityfetishnight.com/house-rules/fetish-dress-code/ \n▄▄▄▄▄▄▄▄▄▄▄▄▄▄▄▄▄▄▄▄▄▄▄▄▄▄▄▄▄▄ \n✔ SAFETY ✔ \n✔ Health Initiative for Men (HIM)\n✔ Wheelchair accessible washroom\n✔ Keep your mind and body safe – http://dancesafe.org/\n✔ 19+ event\n✔ No uninvited inappropriate touching or play. FIRST get invited\, THEN get inappropriate!\n✔ No means no. Feel free to ask\, but if it’s a no\, please move on! If you didn’t specifically get a YES\, it’s a NO!\n✔ Give people space! If anyone is engaged in naughty play\, do not interfere with their hotness unless all parties involved specifically and verbally worked it out ahead of time! \n▄▄▄▄▄▄▄▄▄▄▄▄▄▄▄▄▄▄▄▄▄▄▄▄▄▄▄▄▄▄ \n★ EVEN MORE INFO AT : \n– www.sincityfetishnight.com\n– www.artandleisure.ca \n▄▄▄▄▄▄▄▄▄▄▄▄▄▄▄▄▄▄▄▄▄▄▄▄▄▄▄▄▄▄ \n★ DOORS AT 10 \nTRUE devilish deviants get there early for maximum pleasure!
URL:https://evilyn13.com/home/event/spank/
LOCATION:Vancouver Arts & Leisure Centre\, 1965 Main Street \, Vancouver\, B.C.\, V5T 3C1\, Canada
CATEGORIES:DJ Gigs,Fetish Events,Gay Events,Get crunk!,Vancouver Events
ATTACH;FMTTYPE=image/jpeg:https://evilyn13.com/home/wp-content/uploads/2016/03/1422472_1111810128850412_8348554328924224025_n.jpg
END:VEVENT
BEGIN:VEVENT
DTSTART;TZID=America/Vancouver:20160312T210000
DTEND;TZID=America/Vancouver:20160313T030000
DTSTAMP:20260421T054858
CREATED:20151228T182610Z
LAST-MODIFIED:20160223T160651Z
UID:518-1457816400-1457838000@evilyn13.com
SUMMARY:Sin City Fetish Night
DESCRIPTION:They’re uncomfortable as hell to get on\, but oh do we love them and HOT DAMN do they look fabulous on men and women alike. Just helping a friend into one is an act of submission and domination all by itself! \nIf you own a corset or a waist cincher\, or have been thinking of getting one\, this is the night to show it off! The annual Sin City LA FETE CORSETE party\, devoted to CORSETS\, CORSETS\, CORSETS is an absolute must-attend! \nTickets go on sale Saturday right here –>www.ticketzone.com/lafetecorsete
URL:https://evilyn13.com/home/event/sin-city-fetish-night/
LOCATION:The Hindenburg\, 23 West Cordova St\, Vancouver\, BC\, V6B 1C8\, Canada
CATEGORIES:DJ Gigs,Fetish Events,Vancouver Events
ATTACH;FMTTYPE=image/jpeg:https://evilyn13.com/home/wp-content/uploads/2015/12/12734036_1142688262429265_9060674026894025180_n.jpg
END:VEVENT
BEGIN:VEVENT
DTSTART;TZID=America/Vancouver:20160213T210000
DTEND;TZID=America/Vancouver:20160214T030000
DTSTAMP:20260421T054858
CREATED:20151227T230638Z
LAST-MODIFIED:20160204T154134Z
UID:507-1455397200-1455418800@evilyn13.com
SUMMARY:Sin City Valentine's Day Party
DESCRIPTION:Can you believe the Sin City Fetish Night Valentine’s Fetish Ball is barely over a week away? This is always one of our absolute biggest parties of the year – we are expecting well over 300 kinksters in attendance! Advance tickets HIGHLY recommended! We have an EPIC lineup of sexy stage performers to tantalize you\, including the incredible MiMi Cherry who we are flying here from Montreal!! \nTickets : www.ticketzone.com/sinvalentines\nRSVP : www.facebook.com/events/261763003979132/\nWebsite : www.sincityfetishnight.com/events/valentines/ \nHard copy tickets exclusively at Deadly Couture!
URL:https://evilyn13.com/home/event/sin-city-valentines-day-party/
LOCATION:The Hindenburg\, 23 West Cordova St\, Vancouver\, BC\, V6B 1C8\, Canada
CATEGORIES:Burlesque Events,DJ Gigs,Fetish Events,Vancouver Events
ATTACH;FMTTYPE=image/jpeg:https://evilyn13.com/home/wp-content/uploads/2015/12/12631549_1133794499985308_4864421494080137540_n.jpg
END:VEVENT
BEGIN:VEVENT
DTSTART;TZID=America/Vancouver:20160205T190000
DTEND;TZID=America/Vancouver:20160207T170000
DTSTAMP:20260421T054858
CREATED:20151227T224811Z
LAST-MODIFIED:20151227T225842Z
UID:502-1454698800-1454864400@evilyn13.com
SUMMARY:Taboo Naughty But Nice Sex Show
DESCRIPTION:You can find Evilyn13 in the dungeon reppin’ for the Sin City Fetish Night booth at the Taboo Naughty But Nice Sex Show. Evilyn will have prints and merch available for purchase and signing.
URL:https://evilyn13.com/home/event/taboo-naughty-but-nice-sex-show/
LOCATION:Vancouver Convention Centre\, 1055 Canada Pl\, Vancouver\, BC \, Vancouver    \, BC\, V6C 0C3\, Canada
CATEGORIES:Fetish Events,Vancouver Events
ATTACH;FMTTYPE=image/jpeg:https://evilyn13.com/home/wp-content/uploads/2015/12/11999084_1029741147077455_5436982510791832688_n.jpg
END:VEVENT
BEGIN:VEVENT
DTSTART;TZID=America/Vancouver:20160130T210000
DTEND;TZID=America/Vancouver:20160131T030000
DTSTAMP:20260421T054858
CREATED:20151227T231045Z
LAST-MODIFIED:20151227T233128Z
UID:509-1454187600-1454209200@evilyn13.com
SUMMARY:Sin City Rubber Ball
DESCRIPTION:Sin City Fetish Night hosts its one and only stand alone event of 2016 at Club 8×6\, everyone’s favourite downtown Vancouver sex-positive club. \nUltra strict dress code which is guaranteed to give rubber lovers a luscious latex orgasm. All attendees must be wearing MINIMUM 50% RUBBER or they will be denied entry. If you are covered head to toe\, you better be wearing a LOT of rubber! If your outfit is very small and barely there\, that’s a lot less rubber to be wearing\, but fully half of it must be rubber. Tops or bottoms. Preferably both. Jesus Christ you are a sexy beast. Even sexier wrapped up in rubber! \nFull scale kink party production providing Sin City’s trademark over the top electric atmosphere. \nNon-stop dance party with the Sin City DJ crew.
URL:https://evilyn13.com/home/event/sin-city-rubber-ball/
LOCATION:8×6\, 1775 Haro Street\, Vancouver\, BC\, V6G 1H2\, Canada
CATEGORIES:Fetish Events,Vancouver Events
ATTACH;FMTTYPE=image/jpeg:https://evilyn13.com/home/wp-content/uploads/2015/12/998153_1111876815510410_5293718387670890948_n.jpg
END:VEVENT
BEGIN:VEVENT
DTSTART;TZID=America/Vancouver:20160109T210000
DTEND;TZID=America/Vancouver:20160110T030000
DTSTAMP:20260421T054858
CREATED:20151227T222228Z
LAST-MODIFIED:20151227T231803Z
UID:495-1452373200-1452394800@evilyn13.com
SUMMARY:Sin City Fetish Night's Fire & Ice Party
DESCRIPTION:SIN CITY FETISH NIGHT is ECSTATIC to announce this new theme we are bringing to our January party!\nFIRE VS ICE – stage performances\, including firebreathers\, fire spinners\, fire contact play & more.\nFIRE VS ICE – decorations\, visuals & glamour photo booth\nPlus of course all the things that make every Sin City party as electric as it is – kink parting on three levels\, two different rooms of DJs & dancing\, strict fetish dress code\, camera-free kink party zone\, custom dance cages\, full size dungeon for exhibitionists and voyeurs\, kink play areas galore for every comfort level\, and more more more!\nRSVP on Facebook https://www.facebook.com/events/180164752331292/
URL:https://evilyn13.com/home/event/sin-city-fetish-nights-fire-ice-party/
LOCATION:The Hindenburg\, 23 West Cordova St\, Vancouver\, BC\, V6B 1C8\, Canada
CATEGORIES:DJ Gigs,Fetish Events,Vancouver Events
ATTACH;FMTTYPE=image/jpeg:https://evilyn13.com/home/wp-content/uploads/2015/12/10351097_1109575062407252_3841236106514257491_n.jpg
END:VEVENT
BEGIN:VEVENT
DTSTART;TZID=America/Vancouver:20151231T210000
DTEND;TZID=America/Vancouver:20151231T210000
DTSTAMP:20260421T054858
CREATED:20151124T064005Z
LAST-MODIFIED:20151124T064105Z
UID:454-1451595600-1451595600@evilyn13.com
SUMMARY:Sin City Fetish Night NYE
DESCRIPTION:Featuring DJ Evilyn13 – It doesn’t get any more fetish glitz & glamour than this! There is only ONE NYE club event to even consider\, which combines both an over the top packed vibe with a sense of intimacy and unity.
URL:https://evilyn13.com/home/event/sin-city-fetish-night-nye/
LOCATION:The Hindenburg\, 23 West Cordova St\, Vancouver\, BC\, V6B 1C8\, Canada
CATEGORIES:DJ Gigs,Fetish Events,Vancouver Events
ATTACH;FMTTYPE=image/jpeg:https://evilyn13.com/home/wp-content/uploads/2015/11/SC_2015_NYE_EVENT_RED.jpg
END:VEVENT
BEGIN:VEVENT
DTSTART;TZID=America/Vancouver:20151212T210000
DTEND;TZID=America/Vancouver:20151213T030000
DTSTAMP:20260421T054858
CREATED:20151117T053442Z
LAST-MODIFIED:20151124T064135Z
UID:310-1449954000-1449975600@evilyn13.com
SUMMARY:Sin City Fetish Night XXX-Mas Fetish Ball
DESCRIPTION:Featuring DJ Evilyn13 – EVERYBODY knows it’s WAY more fun to be naughty than nice on X-mas\, and there’s nowhere more fun to get your naughty on that at Sin City Fetish Night! Three levels of partying\, two rooms of DJs & dancing\, fetish dress code to keep it sexy\, and a wonderfully high-spirited and fun crowd … not to be missed!
URL:https://evilyn13.com/home/event/sin-city-fetish-night-xxx-mas-fetish-ball/
LOCATION:The Hindenburg\, 23 West Cordova St\, Vancouver\, BC\, V6B 1C8\, Canada
CATEGORIES:DJ Gigs,Fetish Events,Vancouver Events
ATTACH;FMTTYPE=image/jpeg:https://evilyn13.com/home/wp-content/uploads/2015/11/11942312_10156030358370174_4636872633910323613_o.jpg
END:VEVENT
BEGIN:VEVENT
DTSTART;TZID=America/Vancouver:20151031T210000
DTEND;TZID=America/Vancouver:20151031T210000
DTSTAMP:20260421T054858
CREATED:20151022T042229Z
LAST-MODIFIED:20151022T042411Z
UID:60-1446325200-1446325200@evilyn13.com
SUMMARY:Sin City Fetish Halloween
DESCRIPTION:Featuring DJ Evilyn13\nSin City is the ONLY Halloween event with a strict fetish dress code and is always ground ZERO for fetish partying on what is possibly the absolute top don’t-miss marquee weekend out of the entire year. \nFor more information\, check out the event website.
URL:https://evilyn13.com/home/event/sin-city-fetish-halloween/
LOCATION:The Imperial\, 319 Main St\, Vancouver\, BC\, V6A 2S9\, Canada
CATEGORIES:DJ Gigs,Fetish Events,Vancouver Events
ATTACH;FMTTYPE=image/jpeg:https://evilyn13.com/home/wp-content/uploads/2015/10/12096271_10156139160160174_2928130435957334610_n.jpg
END:VEVENT
BEGIN:VEVENT
DTSTART;TZID=America/Vancouver:20151010T210000
DTEND;TZID=America/Vancouver:20151011T030000
DTSTAMP:20260421T054858
CREATED:20151022T034740Z
LAST-MODIFIED:20151022T041641Z
UID:54-1444510800-1444532400@evilyn13.com
SUMMARY:Sin City Scarlot Harlots Fetish Ball
DESCRIPTION:Featuring DJ Evilyn13\nRED IS THE COLOUR OF SIN! And it is also a SUPER easy theme! You can do anything from as simple as taking any fetish outfit you like or already own and tying a red ribbon into your hair or on your wrist\, or incorporating a red flower into your outfit\, all the way through to putting together a full on head to toe red theme outfit! \nFor more information check out the event website.
URL:https://evilyn13.com/home/event/sin-city-scarlot-harlots-fetish-ball/
LOCATION:The Hindenburg\, 23 West Cordova St\, Vancouver\, BC\, V6B 1C8\, Canada
CATEGORIES:DJ Gigs,Fetish Events,Vancouver Events
END:VEVENT
END:VCALENDAR